BEGIN:VCALENDAR
VERSION:2.0
PRODID:icalendar-ruby
CALSCALE:GREGORIAN
METHOD:PUBLISH
BEGIN:VEVENT
DTSTAMP:20260426T035022Z
UID:5-408565@numachurch.tithelysetup7.com
DTSTART:20260920T173000Z
DTEND:20260920T183000Z
CLASS:PUBLIC
CREATED:20260425T175136
DESCRIPTION:Sunday Worship
LAST-MODIFIED:20260425T175136
LOCATION:
SUMMARY:Sunday Worship
URL;VALUE=URI:https://numachurch.tithelysetup7.com/events/sunday-worship/20
 26-09-20
END:VEVENT
END:VCALENDAR
