BEGIN:VCALENDAR
VERSION:2.0
PRODID:icalendar-ruby
CALSCALE:GREGORIAN
METHOD:PUBLISH
BEGIN:VEVENT
DTSTAMP:20260425T223808Z
UID:5-408301@numachurch.tithelysetup7.com
DTSTART:20260830T173000Z
DTEND:20260830T183000Z
CLASS:PUBLIC
CREATED:20260425T150851
DESCRIPTION:Sunday Worship
LAST-MODIFIED:20260425T150851
LOCATION:
SUMMARY:Sunday Worship
URL;VALUE=URI:https://numachurch.tithelysetup7.com/events/sunday-worship/20
 26-08-30
END:VEVENT
END:VCALENDAR
